BEGIN:VCALENDAR
VERSION:2.0
PRODID:-//ChamberMaster//Event Calendar 2.0//EN
METHOD:PUBLISH
X-PUBLISHED-TTL:P3D
REFRESH-INTERVAL:P3D
CALSCALE:GREGORIAN
BEGIN:VEVENT
DTSTART:20120112T230000Z
DTEND:20120113T020000Z
X-MICROSOFT-CDO-ALLDAYEVENT:FALSE
SUMMARY:University of Phoenix Grand Opening
DESCRIPTION:University of Phoenix is celebrating the grand opening of their new campus location with a ribbon cutting ceremony. The festivities will begin at 5 p.m. but the ribbon cutting will be held at 6 p.m. Then the celebration will continue until 8 p.m. with food\, games and fun
X-ALT-DESC;FMTTYPE=text/html:University of Phoenix is celebrating the grand opening of their new campus location with a ribbon cutting ceremony. The festivities will begin at 5 p.m. but the ribbon cutting will be held at 6 p.m. Then the celebration will continue until 8 p.m. with food\, games and fun\n
LOCATION:
UID:e.1828.3341
SEQUENCE:3
DTSTAMP:20260420T213108Z
URL:https://business.harlingen.com/events/details/university-of-phoenix-grand-opening-01-12-2012-3341
END:VEVENT

END:VCALENDAR
