BEGIN:VCALENDAR
VERSION:2.0
PRODID:-//ChamberMaster//Event Calendar 2.0//EN
METHOD:PUBLISH
X-PUBLISHED-TTL:P3D
REFRESH-INTERVAL:P3D
CALSCALE:GREGORIAN
BEGIN:VEVENT
DTSTART:20120521T220000Z
DTEND:20120521T220000Z
X-MICROSOFT-CDO-ALLDAYEVENT:FALSE
SUMMARY:Unveiling Ceremony of the Play\, Love & Laugh Mural
DESCRIPTION:The City of Harlingen will hold an unveiling ceremony at the Splash Park for the Play\, Love & Laugh mural which was painted by Mrs. Carol F. Grimsley. Mrs.Grimsley donated her time to paint the mural which depicts children at play and several sea creatures at play as well. The City wishes to show its appreciation to Mrs.Grimsley by honoring her with a plaque for her work.  Please join us!
X-ALT-DESC;FMTTYPE=text/html:The City of Harlingen will hold an unveiling ceremony at the Splash Park for the Play\, Love & Laugh mural which was painted by Mrs. Carol F. Grimsley. Mrs.Grimsley donated her time to paint the mural which depicts children at play and several sea creatures at play as well. The City wishes to show its appreciation to Mrs.Grimsley by honoring her with a plaque for her work.  Please join us! \n \n
LOCATION:
UID:e.1828.3697
SEQUENCE:3
DTSTAMP:20260420T151002Z
URL:https://business.harlingen.com/events/details/unveiling-ceremony-of-the-play-love-laugh-mural-05-21-2012-3697
END:VEVENT

END:VCALENDAR
