BEGIN:VCALENDAR
VERSION:2.0
PRODID:-//ChamberMaster//Event Calendar 2.0//EN
METHOD:PUBLISH
X-PUBLISHED-TTL:P3D
REFRESH-INTERVAL:P3D
CALSCALE:GREGORIAN
BEGIN:VEVENT
DTSTART:20130227T010000Z
DTEND:20130227T030000Z
X-MICROSOFT-CDO-ALLDAYEVENT:FALSE
SUMMARY:US Air Force Band "Dimensions in Blue" Jazz Big Band
DESCRIPTION:United States Air Force Band of the West "Dimensions in Blue" Jazz Big Band\nplease visit our website: http://www.bandofthewest.af.mil/\n\n\nThis concert is FREE and open to the public. You may pick-up your FREE ticket at the Harlingen Chamber of Commerce\, 311 E. Tyler Ave. Harlingen\, TX 78550
X-ALT-DESC;FMTTYPE=text/html:United States Air Force Band of the West "Dimensions in Blue" Jazz Big Band\nplease visit our website: http://www.bandofthewest.af.mil/\n\n\nThis concert is FREE and open to the public. You may pick-up your FREE ticket at the Harlingen Chamber of Commerce\, 311 E. Tyler Ave. Harlingen\, TX 78550\n\n
LOCATION:
UID:e.1828.4236
SEQUENCE:3
DTSTAMP:20260420T084520Z
URL:https://business.harlingen.com/events/details/us-air-force-band-dimensions-in-blue-jazz-big-band-02-26-2013-4236
END:VEVENT

END:VCALENDAR
