BEGIN:VCALENDAR
VERSION:2.0
PRODID:-//ChamberMaster//Event Calendar 2.0//EN
METHOD:PUBLISH
X-PUBLISHED-TTL:P3D
REFRESH-INTERVAL:P3D
CALSCALE:GREGORIAN
BEGIN:VEVENT
DTSTART:20100429T140000Z
DTEND:20100429T210000Z
X-MICROSOFT-CDO-ALLDAYEVENT:FALSE
SUMMARY:UT Brownsville/Texas Southmost College International Trade Center Export Conference
DESCRIPTION:The University of Texas at Brownsville and Texas Southmost College INTERNATIONAL TRADE CENTER invites you to attend an Export Conference on Thursday\, April 29\, 2010 from 9 a.m. to 4:00 p.m.  Topics include SBA Program Assistance\, Texas Small Businesses\, Export Opportunities in Emerging Markets\, Export Assistance Programs\, SBA Export Finance Programs\, Trade Finance Solutions for Exporters and International Banking.  Admittance is FREE.  Networking lunch between 12 noon & 1:00 pm.  Sessions followed by questions & discussion.  To register please contact Diana Gonzalez at 956-882-4233 or email her at diana.gonzalez2@utb.edu.
X-ALT-DESC;FMTTYPE=text/html:The University of Texas at Brownsville and Texas Southmost College INTERNATIONAL TRADE CENTER invites you to attend an Export Conference on Thursday\, April 29\, 2010 from 9 a.m. to 4:00 p.m.  Topics include SBA Program Assistance\, Texas Small Businesses\, Export Opportunities in Emerging Markets\, Export Assistance Programs\, SBA Export Finance Programs\, Trade Finance Solutions for Exporters and International Banking.  Admittance is FREE.  Networking lunch between 12 noon & 1:00 pm.  Sessions followed by questions & discussion.  To register please contact Diana Gonzalez at 956-882-4233 or email her at diana.gonzalez2@utb.edu.\n\n \n
LOCATION:
UID:e.1828.2461
SEQUENCE:3
DTSTAMP:20260422T081404Z
URL:https://business.harlingen.com/events/details/ut-brownsville-texas-southmost-college-international-trade-center-export-conference-04-29-2010-2461
END:VEVENT

END:VCALENDAR
