BEGIN:VCALENDAR
VERSION:2.0
PRODID:-//ChamberMaster//Event Calendar 2.0//EN
METHOD:PUBLISH
X-PUBLISHED-TTL:P3D
REFRESH-INTERVAL:P3D
CALSCALE:GREGORIAN
BEGIN:VEVENT
DTSTART:20111011T230000Z
DTEND:20111012T010000Z
X-MICROSOFT-CDO-ALLDAYEVENT:FALSE
SUMMARY:UT Health Science Center Panel Discussion
DESCRIPTION:Join an engaging panel discussion addressing important legal issues impacting women's health care which is relevant to attorneys\, physicians and the general public. Admission is FREE- RSVP for your reserved seat today. RAHCspecialevents@uthscsa.edu or 956-365-8639.
X-ALT-DESC;FMTTYPE=text/html:Join an engaging panel discussion addressing important legal issues impacting women's health care which is relevant to attorneys\, physicians and the general public. Admission is FREE- RSVP for your reserved seat today. RAHCspecialevents@uthscsa.edu or 956-365-8639. \n
LOCATION:
UID:e.1828.3185
SEQUENCE:3
DTSTAMP:20260421T021123Z
URL:https://business.harlingen.com/events/details/ut-health-science-center-panel-discussion-10-11-2011-3185
END:VEVENT

END:VCALENDAR
