BEGIN:VCALENDAR
VERSION:2.0
PRODID:-//ChamberMaster//Event Calendar 2.0//EN
METHOD:PUBLISH
X-PUBLISHED-TTL:P3D
REFRESH-INTERVAL:P3D
CALSCALE:GREGORIAN
BEGIN:VEVENT
DTSTART:20120614T223000Z
DTEND:20120614T223000Z
X-MICROSOFT-CDO-ALLDAYEVENT:FALSE
SUMMARY:UTB Alumni and Friends Harlingen Mixer
DESCRIPTION:Registration: $5 All proceeds benefit S.T.A.R.S. Scholarships.  Register at utb.edu/mixer or call (956) 882-4337.
X-ALT-DESC;FMTTYPE=text/html:Registration: $5 All proceeds benefit S.T.A.R.S. Scholarships.  Register at utb.edu/mixer or call (956) 882-4337. \n
LOCATION:
UID:e.1828.3762
SEQUENCE:3
DTSTAMP:20260420T132359Z
URL:https://business.harlingen.com/events/details/utb-alumni-and-friends-harlingen-mixer-06-14-2012-3762
END:VEVENT

END:VCALENDAR
