BEGIN:VCALENDAR
VERSION:2.0
PRODID:-//ChamberMaster//Event Calendar 2.0//EN
METHOD:PUBLISH
X-PUBLISHED-TTL:P3D
REFRESH-INTERVAL:P3D
CALSCALE:GREGORIAN
BEGIN:VEVENT
DTSTART:20111102T210000Z
DTEND:20111102T230000Z
X-MICROSOFT-CDO-ALLDAYEVENT:FALSE
SUMMARY:UTB Graduate Open House
DESCRIPTION:Work toward your Masters degree close to home.  Classes will be right here in Harlingen. Make plans to attend our Graduate Studies Open House where you will get information about Admissions\, Financil Aid\, and much more.
X-ALT-DESC;FMTTYPE=text/html:Work toward your Masters degree close to home.  Classes will be right here in Harlingen. Make plans to attend our Graduate Studies Open House where you will get information about Admissions\, Financil Aid\, and much more.
LOCATION:University Center in Harlingen Across the street from TSTC Learning Resource Center
UID:e.1828.3255
SEQUENCE:3
DTSTAMP:20260421T020345Z
URL:https://business.harlingen.com/events/details/utb-graduate-open-house-11-02-2011-3255
END:VEVENT

END:VCALENDAR
