BEGIN:VCALENDAR
VERSION:2.0
PRODID:-//ChamberMaster//Event Calendar 2.0//EN
METHOD:PUBLISH
X-PUBLISHED-TTL:P3D
REFRESH-INTERVAL:P3D
CALSCALE:GREGORIAN
BEGIN:VEVENT
DTSTART:20100330T130000Z
DTEND:20100330T210000Z
X-MICROSOFT-CDO-ALLDAYEVENT:FALSE
SUMMARY:UTPA Small Business Development Center FREE Export Symposium
DESCRIPTION:The UTPA Small Business Development Center is having a FREE Export Symposium.  The symposium\, Make the World your Market\, will provide training on how to access the necessary information to be successful in a global market.   Companies who are currently exporting or who are export-ready are encouraged to attend.  The seminar will help attendees determine benefits of exporting\, recognize export risks\, observe common export mistakes\, know the export logistics process\, identify export financing resources\, and be informed on how to obtain assistance from the U.S. Export Assistance Center.  The symposium will be held March 30th at the new Lone Star National Bank Corporate Offices on Nolana from 8 am—4 pm.  Register today at (956) 928-0060.
X-ALT-DESC;FMTTYPE=text/html:The UTPA Small Business Development Center is having a FREE Export Symposium.  The symposium\, Make the World your Market\, will provide training on how to access the necessary information to be successful in a global market.   Companies who are currently exporting or who are export-ready are encouraged to attend.  The seminar will help attendees determine benefits of exporting\, recognize export risks\, observe common export mistakes\, know the export logistics process\, identify export financing resources\, and be informed on how to obtain assistance from the U.S. Export Assistance Center.  The symposium will be held March 30th at the new Lone Star National Bank Corporate Offices on Nolana from 8 am—4 pm.  Register today at (956) 928-0060.
LOCATION:
UID:e.1828.2466
SEQUENCE:3
DTSTAMP:20260422T080833Z
URL:https://business.harlingen.com/events/details/utpa-small-business-development-center-free-export-symposium-03-30-2010-2466
END:VEVENT

END:VCALENDAR
