BEGIN:VCALENDAR
VERSION:2.0
PRODID:-//ChamberMaster//Event Calendar 2.0//EN
METHOD:PUBLISH
X-PUBLISHED-TTL:P3D
REFRESH-INTERVAL:P3D
CALSCALE:GREGORIAN
BEGIN:VEVENT
DTSTART:20110225T163000Z
DTEND:20110225T163000Z
X-MICROSOFT-CDO-ALLDAYEVENT:FALSE
SUMMARY:VA Health Care Center at Harlingen Dedication and Ribbon Cutting Ceremony
DESCRIPTION:VA Texas Valley Coastal Bend Health Care System  "Keeping the Promise!"\n\nThe Department of Veterans Affairs recognized the need for an expansion of Veterans' health care services in Deep South Texas. Come join in celebrating the grand opening of the three-story center totaling 120\,000 sq.ft.!\n\nJoin special guests: Dr. Robert A. Petzel\, Under Secretary for Health\, Department of Veterans Affairs\; \nMr.  Lawrence A. Biro\, Network Director\, VA Heart of Texas Health Care Network\; Mr. Jeff Milligan\, Director\, VA Texas Valley Coastal Bend Health Care System\; U.S. Senator Kay Bailey Hutchison\, U.S. Congressmen Rubén Hinojosa\,  Henry Cuellar and Blake Farenthold.  \n\nDoors open at 9:45 AM\nFor additional information contact Froy Garza\, Public Affairs\, 956-430-9303 or visit www.texasvalley.va.gov
X-ALT-DESC;FMTTYPE=text/html:VA Texas Valley Coastal Bend Health Care System  "Keeping the Promise!"\n\nThe Department of Veterans Affairs recognized the need for an expansion of Veterans' health care services in Deep South Texas. Come join in celebrating the grand opening of the three-story center totaling 120\,000 sq.ft.!\n\nJoin special guests: Dr. Robert A. Petzel\, Under Secretary for Health\, Department of Veterans Affairs\; \nMr.  Lawrence A. Biro\, Network Director\, VA Heart of Texas Health Care Network\; Mr. Jeff Milligan\, Director\, VA Texas Valley Coastal Bend Health Care System\; U.S. Senator Kay Bailey Hutchison\, U.S. Congressmen Rubén Hinojosa\,  Henry Cuellar and Blake Farenthold.  \n\nDoors open at 9:45 AM\nFor additional information contact Froy Garza\, Public Affairs\, 956-430-9303 or visit www.texasvalley.va.gov
LOCATION:Located right behind Su Clinica Familiar- Parking is available at the multi-level parking garage adjacent to the facility.
UID:e.1828.2899
SEQUENCE:3
DTSTAMP:20260421T143130Z
URL:https://business.harlingen.com/events/details/va-health-care-center-at-harlingen-dedication-and-ribbon-cutting-ceremony-02-25-2011-2899
END:VEVENT

END:VCALENDAR
