BEGIN:VCALENDAR
VERSION:2.0
PRODID:-//ChamberMaster//Event Calendar 2.0//EN
METHOD:PUBLISH
X-PUBLISHED-TTL:P3D
REFRESH-INTERVAL:P3D
CALSCALE:GREGORIAN
BEGIN:VEVENT
DTSTART:20110106T160000Z
DTEND:20110106T160000Z
X-MICROSOFT-CDO-ALLDAYEVENT:FALSE
SUMMARY:VA Texas Valley Coastal Bend Ambulatory Surgery & Specialty Outpatient Center
DESCRIPTION:The Department of Veterans Affairs recognized the need for an expansion of Veterans' health care services in Deep South Texas. Come join in celebrating the grand opening of the three-story center totaling 120\,000 sq.ft.!\nFor more information please call 956-366-4500.
X-ALT-DESC;FMTTYPE=text/html:The Department of Veterans Affairs recognized the need for an expansion of Veterans' health care services in Deep South Texas. Come join in celebrating the grand opening of the three-story center totaling 120\,000 sq.ft.!\nFor more information please call 956-366-4500.
LOCATION:Location next to the Ronald McDonald House.
UID:e.1828.2874
SEQUENCE:3
DTSTAMP:20260421T154912Z
URL:https://business.harlingen.com/events/details/va-texas-valley-coastal-bend-ambulatory-surgery-specialty-outpatient-center-01-06-2011-2874
END:VEVENT

END:VCALENDAR
