BEGIN:VCALENDAR
VERSION:2.0
PRODID:-//ChamberMaster//Event Calendar 2.0//EN
METHOD:PUBLISH
X-PUBLISHED-TTL:P3D
REFRESH-INTERVAL:P3D
CALSCALE:GREGORIAN
BEGIN:VEVENT
DTSTART:20101019T130000Z
DTEND:20101019T150000Z
X-MICROSOFT-CDO-ALLDAYEVENT:FALSE
SUMMARY:VA TX Valley Coastal Bend Health Care Systems
DESCRIPTION:Veterans can expect blood pressure checks\, glucose checks\, OIF/OEF Services\; mini expo and more. Veterans who are not enrolled in the VA Healthcare System are urged to visit the health fair and enroll\, just bring your DD-214 and our health benefits advisors will help you with the rest.\n\nHealth Fair will include special Presentations on \n"How to Manage Stress" 9:00AM \n"Exercise Demonstration" by personal trainer 8:30 & 9:30AM\n\nFOR FURTHER INFORMATION CONTACT:  \nFroy Garza\, Public Affairs Officer (956) 430-9303  (956) 454-3762 (Cell)
X-ALT-DESC;FMTTYPE=text/html:Veterans can expect blood pressure checks\, glucose checks\, OIF/OEF Services\; mini expo and more. Veterans who are not enrolled in the VA Healthcare System are urged to visit the health fair and enroll\, just bring your DD-214 and our health benefits advisors will help you with the rest.\n\nHealth Fair will include special Presentations on \n"How to Manage Stress" 9:00AM \n"Exercise Demonstration" by personal trainer 8:30 & 9:30AM\n\nFOR FURTHER INFORMATION CONTACT:  \nFroy Garza\, Public Affairs Officer (956) 430-9303  (956) 454-3762 (Cell) \n
LOCATION:
UID:e.1828.2817
SEQUENCE:3
DTSTAMP:20260421T203812Z
URL:https://business.harlingen.com/events/details/va-tx-valley-coastal-bend-health-care-systems-10-19-2010-2817
END:VEVENT

END:VCALENDAR
