BEGIN:VCALENDAR
VERSION:2.0
PRODID:-//ChamberMaster//Event Calendar 2.0//EN
METHOD:PUBLISH
X-PUBLISHED-TTL:P3D
REFRESH-INTERVAL:P3D
CALSCALE:GREGORIAN
BEGIN:VEVENT
DTSTART:20100215T000000Z
DTEND:20100215T000000Z
X-MICROSOFT-CDO-ALLDAYEVENT:FALSE
SUMMARY:Valentine's Day 2010 Sunday Feb 14
DESCRIPTION:Valentine's Dinner dance- Elegant Gala' $14 \nFeb 14th\, at FunNSun RV Resort in San Benito. The Dance Capital of Texas
X-ALT-DESC;FMTTYPE=text/html:Valentine's Dinner dance- Elegant Gala' $14 \nFeb 14th\, at FunNSun RV Resort in San Benito. The Dance Capital of Texas
LOCATION:FunNSun RV Resort off 509 south Paso Real Exit\, San Benito
UID:e.1828.2221
SEQUENCE:3
DTSTAMP:20260422T095947Z
URL:https://business.harlingen.com/events/details/valentine-s-day-2010-sunday-feb-14-02-14-2010-2221
END:VEVENT

END:VCALENDAR
