BEGIN:VCALENDAR
VERSION:2.0
PRODID:-//ChamberMaster//Event Calendar 2.0//EN
METHOD:PUBLISH
X-PUBLISHED-TTL:P3D
REFRESH-INTERVAL:P3D
CALSCALE:GREGORIAN
BEGIN:VEVENT
DTSTART:20120616T163000Z
DTEND:20120616T203000Z
X-MICROSOFT-CDO-ALLDAYEVENT:FALSE
SUMMARY:Valle Vista Mall- Harlingen /Hurricane Expo
DESCRIPTION:Valle Vista Mall is hosting a Hurricane Expo. Join us for a free event\, open to the public! Get the latest information from local authorities and vendors and be ready to protect your family this hurricane season.
X-ALT-DESC;FMTTYPE=text/html:Valle Vista Mall is hosting a Hurricane Expo. Join us for a free event\, open to the public! Get the latest information from local authorities and vendors and be ready to protect your family this hurricane season. \n
LOCATION:
UID:e.1828.3778
SEQUENCE:3
DTSTAMP:20260420T150116Z
URL:https://business.harlingen.com/events/details/valle-vista-mall-harlingen-hurricane-expo-06-16-2012-3778
END:VEVENT

END:VCALENDAR
