BEGIN:VCALENDAR
VERSION:2.0
PRODID:-//ChamberMaster//Event Calendar 2.0//EN
METHOD:PUBLISH
X-PUBLISHED-TTL:P3D
REFRESH-INTERVAL:P3D
CALSCALE:GREGORIAN
BEGIN:VEVENT
DTSTART:20120818T170000Z
DTEND:20120818T220000Z
X-MICROSOFT-CDO-ALLDAYEVENT:FALSE
SUMMARY:Valle Vista Mall will be hosting a"Back to School Health & Wellness Fair"
DESCRIPTION:Valle Vista Mall will be hosting a"Back to School Health & Wellness Fair".  Take advantage of one of the busiest shopping seasons of the year and reach out to the community as you increase health awareness by offering free screenings\, activities\, educational materials and information for the whole family.  Motivate participants to make better health behavior changes that will have a positive impact in their lives. If you are interested in sponsoring this event\, please contact Osmara Perez at (956) 425-8392 or e-mail at osperez@simon.com.  Deadline for registration is Friday\, July 13\, 2012.
X-ALT-DESC;FMTTYPE=text/html:Valle Vista Mall will be hosting a"Back to School Health & Wellness Fair".  Take advantage of one of the busiest shopping seasons of the year and reach out to the community as you increase health awareness by offering free screenings\, activities\, educational materials and information for the whole family.  Motivate participants to make better health behavior changes that will have a positive impact in their lives. If you are interested in sponsoring this event\, please contact Osmara Perez at (956) 425-8392 or e-mail at osperez@simon.com.  Deadline for registration is Friday\, July 13\, 2012.    \n
LOCATION:
UID:e.1828.3863
SEQUENCE:3
DTSTAMP:20260420T120002Z
URL:https://business.harlingen.com/events/details/valle-vista-mall-will-be-hosting-a-back-to-school-health-wellness-fair-08-18-2012-3863
END:VEVENT

END:VCALENDAR
