BEGIN:VCALENDAR
VERSION:2.0
PRODID:-//ChamberMaster//Event Calendar 2.0//EN
METHOD:PUBLISH
X-PUBLISHED-TTL:P3D
REFRESH-INTERVAL:P3D
CALSCALE:GREGORIAN
BEGIN:VEVENT
DTSTART:20091114T140000Z
DTEND:20091114T180000Z
X-MICROSOFT-CDO-ALLDAYEVENT:FALSE
SUMMARY:Valley Baptist Diabetes Education Center Diabetes Expo 2009
DESCRIPTION:This FREE wellness program in English and Spanish wil feature health screenings plus expert advice on reducing your risk of diabetes. Bring the entire family and friends for a free health screening. A Physician and Certified Diabetes Educators will be on hand for consultation after screenings along with a Pharmacist and Dietitian for questions about medications and nutrition.  Lectures at 8:00\, 9:00 and 10:00 AM.  FREE SCREENINGS include Blood Glucose • Eye Screening • Foot Screening * Blood Pressure Check • Body Fat Analysis • Stroke Screening.  For more information call 1-888-902- LIFE (5433) or the Diabetes Education Center 956-389-1119.  The Diabetes Center-Harlingen is recognized by the American Diabetes Association and we follow their National Standards.
X-ALT-DESC;FMTTYPE=text/html:This FREE wellness program in English and Spanish wil feature health screenings plus expert advice on reducing your risk of diabetes. Bring the entire family and friends for a free health screening. A Physician and Certified Diabetes Educators will be on hand for consultation after screenings along with a Pharmacist and Dietitian for questions about medications and nutrition.  Lectures at 8:00\, 9:00 and 10:00 AM.  FREE SCREENINGS include Blood Glucose • Eye Screening • Foot Screening * Blood Pressure Check • Body Fat Analysis • Stroke Screening.  For more information call 1-888-902- LIFE (5433) or the Diabetes Education Center 956-389-1119.  The Diabetes Center-Harlingen is recognized by the American Diabetes Association and we follow their National Standards.\n\n
LOCATION:
UID:e.1828.2162
SEQUENCE:3
DTSTAMP:20260422T144746Z
URL:https://business.harlingen.com/events/details/valley-baptist-diabetes-education-center-diabetes-expo-2009-11-14-2009-2162
END:VEVENT

END:VCALENDAR
