BEGIN:VCALENDAR
VERSION:2.0
PRODID:-//ChamberMaster//Event Calendar 2.0//EN
METHOD:PUBLISH
X-PUBLISHED-TTL:P3D
REFRESH-INTERVAL:P3D
CALSCALE:GREGORIAN
BEGIN:VEVENT
DTSTART:20100508T000000Z
DTEND:20100508T000000Z
X-MICROSOFT-CDO-ALLDAYEVENT:FALSE
SUMMARY:Valley Baptist Foundation Circle Cinco de Mayo Fiesta
DESCRIPTION:The Valley Baptist Foundation Circle invites you to put on your sombreros and celebrate our 3rd Annual Cinco de Mayo with a Fiesta benefiting the newly established Endowment Fund - 2020: A Vision for the Future.  The event will take place at 7:00 pm on Friday\, May 7\, 2010 at Puesta Del Sol located at 28540 South Dilworth Road in Harlingen.  Enjoy Mariachis and Folkloric Dancers.  Dinner by the chefs of the Magnolia Grille.  Dance under the stars to music by Blue Rio.  For sponsorship or further information\, please contact the Foundation office at 956-389-1614.
X-ALT-DESC;FMTTYPE=text/html:The Valley Baptist Foundation Circle invites you to put on your sombreros and celebrate our 3rd Annual Cinco de Mayo with a Fiesta benefiting the newly established Endowment Fund - 2020: A Vision for the Future.  The event will take place at 7:00 pm on Friday\, May 7\, 2010 at Puesta Del Sol located at 28540 South Dilworth Road in Harlingen.  Enjoy Mariachis and Folkloric Dancers.  Dinner by the chefs of the Magnolia Grille.  Dance under the stars to music by Blue Rio.  For sponsorship or further information\, please contact the Foundation office at 956-389-1614.
LOCATION:
UID:e.1828.2484
SEQUENCE:3
DTSTAMP:20260422T050701Z
URL:https://business.harlingen.com/events/details/valley-baptist-foundation-circle-cinco-de-mayo-fiesta-05-07-2010-2484
END:VEVENT

END:VCALENDAR
