BEGIN:VCALENDAR
VERSION:2.0
PRODID:-//ChamberMaster//Event Calendar 2.0//EN
METHOD:PUBLISH
X-PUBLISHED-TTL:P3D
REFRESH-INTERVAL:P3D
CALSCALE:GREGORIAN
BEGIN:VEVENT
DTSTART:20091202T003000Z
DTEND:20091202T003000Z
X-MICROSOFT-CDO-ALLDAYEVENT:FALSE
SUMMARY:Valley Baptist Medical Center 18th Annual Lights for Life Ceremony
DESCRIPTION:Come help us celebrate our 18th Annual Lights for Life Ceremony on Tuesday\, December 1\, 2009 at 6:30 p.m.\nJoin us for a tree lighting ceremony\, caroling and refreshments.  A very special guest will be making an appearance for all who are young at heart!  For more information\, please call 956-389-1614.
X-ALT-DESC;FMTTYPE=text/html:Come help us celebrate our 18th Annual Lights for Life Ceremony on Tuesday\, December 1\, 2009 at 6:30 p.m.\nJoin us for a tree lighting ceremony\, caroling and refreshments.  A very special guest will be making an appearance for all who are young at heart!  For more information\, please call 956-389-1614.
LOCATION:
UID:e.1828.2159
SEQUENCE:3
DTSTAMP:20260422T144724Z
URL:https://business.harlingen.com/events/details/valley-baptist-medical-center-18th-annual-lights-for-life-ceremony-12-01-2009-2159
END:VEVENT

END:VCALENDAR
