BEGIN:VCALENDAR
VERSION:2.0
PRODID:-//ChamberMaster//Event Calendar 2.0//EN
METHOD:PUBLISH
X-PUBLISHED-TTL:P3D
REFRESH-INTERVAL:P3D
CALSCALE:GREGORIAN
BEGIN:VEVENT
DTSTART:20121020T140000Z
DTEND:20121020T210000Z
X-MICROSOFT-CDO-ALLDAYEVENT:FALSE
SUMMARY:Valley Baptist Medical Center $5 Jewelry & Gift Sale
DESCRIPTION:Brownsville: \n1040 W. Jefferson St.\, Brownsville\nThursday\, October 18\, 2012 -  7:00 a.m. to 7:00 p.m.\nFriday\, October 19\, 2012 - 7:00 a.m. to 6:00 p.m.\nSaturday\, October 20\, 2012 - 9:00 a.m. to 4:00 p.m.\nVBMC - Tower Conference Room\, 1st Floor\nFor more information\, call (956) 698-4059\n\nHarlingen:\n2101 Pease St.\, Harlingen \nVBMC - Woodward Conference Center \nMonday\, October 22\, 2012 - 7:00 a.m. to 7:00 p.m.\nTuesday\, October 23\, 2012 - 7:00 a.m. to 6:00 p.m \nFor more information\, call (956) 389-1193.\nCash\, Checks\, Credit Cards (Payroll Deduction for VBMC employees).  Fabulous gifts for family\, friends\, and of course....Yourself!  Invite your friends!
X-ALT-DESC;FMTTYPE=text/html:Brownsville: \n1040 W. Jefferson St.\, Brownsville\nThursday\, October 18\, 2012 -  7:00 a.m. to 7:00 p.m.\nFriday\, October 19\, 2012 - 7:00 a.m. to 6:00 p.m.\nSaturday\, October 20\, 2012 - 9:00 a.m. to 4:00 p.m.\nVBMC - Tower Conference Room\, 1st Floor\nFor more information\, call (956) 698-4059\n\nHarlingen:\n2101 Pease St.\, Harlingen \nVBMC - Woodward Conference Center \nMonday\, October 22\, 2012 - 7:00 a.m. to 7:00 p.m.\nTuesday\, October 23\, 2012 - 7:00 a.m. to 6:00 p.m \nFor more information\, call (956) 389-1193.\nCash\, Checks\, Credit Cards (Payroll Deduction for VBMC employees).  Fabulous gifts for family\, friends\, and of course....Yourself!  Invite your friends!  \n
LOCATION:
UID:e.1828.4095
SEQUENCE:3
DTSTAMP:20260420T103008Z
URL:https://business.harlingen.com/events/details/valley-baptist-medical-center-5-jewelry-gift-sale-10-20-2012-4095
END:VEVENT

END:VCALENDAR
