BEGIN:VCALENDAR
VERSION:2.0
PRODID:-//ChamberMaster//Event Calendar 2.0//EN
METHOD:PUBLISH
X-PUBLISHED-TTL:P3D
REFRESH-INTERVAL:P3D
CALSCALE:GREGORIAN
BEGIN:VEVENT
DTSTART:20100824T223000Z
DTEND:20100824T223000Z
X-MICROSOFT-CDO-ALLDAYEVENT:FALSE
SUMMARY:Valley Baptist Medical Center-Harlingen's 85th Anniversary Celebration
DESCRIPTION:You're invited to celebrate Valley Baptist Medical Center-Harlingen's 85th Anniversary.\n        \n    \n    \n        \n    \n    \n        Tuesday\, August 24th from | 4 pm to 7 pm \n        \n        \n    \n    \n        Valley Baptist Medical Center-Harlingen\, East Tower Lobby \n        \n        \n    \n    \n        Presentations and Ribbon Cutting at 5:30 pm  \n        \n    \n    Join us to view the Valley Baptist historical 85th anniversary photographic retrospective which highlights nine decades of dedication to excellence in health care. Refeshments will be served.
X-ALT-DESC;FMTTYPE=text/html:<html xmlns:o= "urn:schemas-microsoft-com:office:office">\n<head>\n    <link href="http://harlingentxcoc.weblinkconnect.com/CWT/External/WCControls/WCControls.css" type="text/css" rel="Stylesheet" />\n</head>\n<body class="GeneralBody">\n    <p class="MsoNormal" style="MARGIN: 0in 0in 0pt">\n        <span style="FONT-SIZE: 10pt\; COLOR: #857458\; FONT-FAMILY: 'Arial'\,'sans-serif'">You're invited to celebrate Valley&nbsp\;Baptist Medical Center-Harlingen's 85th Anniversary.<o:p></o:p>\n        </span>\n    </p>\n    <p class="MsoNormal" style="MARGIN: 0in 0in 0pt">\n        <span style="FONT-SIZE: 10pt\; COLOR: #857458\; FONT-FAMILY: 'Arial'\,'sans-serif'"></span>\n    </p>\n    <p class="MsoNormal" style="MARGIN: 0in 0in 0pt">\n        <strong><span style="FONT-SIZE: 10pt\; COLOR: #990000\; FONT-FAMILY: 'Arial'\,'sans-serif'">Tuesday\, August 24th from | 4 pm to 7 pm</span></strong><span style="FONT-SIZE: 10pt\; COLOR: #857458\; FONT-FAMILY: 'Arial'\,'sans-serif'"> \n        <o:p></o:p>\n        </span>\n    </p>\n    <p class="MsoNormal" style="MARGIN: 0in 0in 0pt">\n        <strong><span style="FONT-SIZE: 10pt\; COLOR: #990000\; FONT-FAMILY: 'Arial'\,'sans-serif'">Valley Baptist Medical Center-Harlingen\, East Tower Lobby</span></strong><span style="FONT-SIZE: 10pt\; COLOR: #857458\; FONT-FAMILY: 'Arial'\,'sans-serif'"> \n        <o:p></o:p>\n        </span>\n    </p>\n    <p class="MsoNormal" style="MARGIN: 0in 0in 0pt">\n        <strong><span style="FONT-SIZE: 10pt\; COLOR: #990000\; FONT-FAMILY: 'Arial'\,'sans-serif'">Presentations and Ribbon Cutting at 5:30 pm</span></strong><span style="FONT-SIZE: 10pt\; COLOR: #857458\; FONT-FAMILY: 'Arial'\,'sans-serif'">&nbsp\;</span><span style="FONT-SIZE: 10pt\; COLOR: #857458\; FONT-FAMILY: 'Arial'\,'sans-serif'">&nbsp\;<o:p></o:p>\n        </span>\n    </p>\n    <span style="FONT-SIZE: 10pt\; COLOR: #857458\; FONT-FAMILY: 'Arial'\,'sans-serif'\; mso-fareast-font-family: 'Times New Roman'\; mso-ansi-language: EN-US\; mso-fareast-language: EN-US\; mso-bidi-language: AR-SA">Join&nbsp\;us to view the Valley Baptist historical 85th anniversary photographic retrospective which highlights nine decades of dedication to excellence in health care.&nbsp\;Refeshments will be served.</span> \n</body>\n</html>\n
LOCATION:
UID:e.1828.2583
SEQUENCE:3
DTSTAMP:20260422T002157Z
URL:https://business.harlingen.com/events/details/valley-baptist-medical-center-harlingen-s-85th-anniversary-celebration-08-24-2010-2583
END:VEVENT

END:VCALENDAR
