BEGIN:VCALENDAR
VERSION:2.0
PRODID:-//ChamberMaster//Event Calendar 2.0//EN
METHOD:PUBLISH
X-PUBLISHED-TTL:P3D
REFRESH-INTERVAL:P3D
CALSCALE:GREGORIAN
BEGIN:VEVENT
DTSTART:20100511T234500Z
DTEND:20100511T234500Z
X-MICROSOFT-CDO-ALLDAYEVENT:FALSE
SUMMARY:Valley Baptist Medical Center Presents Dessert with the Doctor
DESCRIPTION:Please join us for an informative presentation on dealing with the stress of caring for a loved one.  Speaker: Daniel F. Villarreal\, MD - Psychiatrist.  Dr. Villarreal is Board Certified in General and Adolescent Psychiatry. He\nobtained his medical degree from the Universidad de Monterey and completed his residency in Psychiatry at UTMB in Galveston\, Texas.  You'll enjoy a delicious heart-healthy dessert\, and have an opportunity to ask questions at the end of the session. Join us in the pursuit of a healthier life. FREE Admission. RSVP required. Please call 1-888-902-LIFE (5433).  Seating is limited.
X-ALT-DESC;FMTTYPE=text/html:Please join us for an informative presentation on dealing with the stress of caring for a loved one.  Speaker: Daniel F. Villarreal\, MD - Psychiatrist.  Dr. Villarreal is Board Certified in General and Adolescent Psychiatry. He\nobtained his medical degree from the Universidad de Monterey and completed his residency in Psychiatry at UTMB in Galveston\, Texas.  You'll enjoy a delicious heart-healthy dessert\, and have an opportunity to ask questions at the end of the session. Join us in the pursuit of a healthier life. FREE Admission. RSVP required. Please call 1-888-902-LIFE (5433).  Seating is limited.  
LOCATION:Woodward Conference Center. Use the South Tower entrance.
UID:e.1828.2508
SEQUENCE:3
DTSTAMP:20260422T051552Z
URL:https://business.harlingen.com/events/details/valley-baptist-medical-center-presents-dessert-with-the-doctor-05-11-2010-2508
END:VEVENT

END:VCALENDAR
