BEGIN:VCALENDAR
VERSION:2.0
PRODID:-//ChamberMaster//Event Calendar 2.0//EN
METHOD:PUBLISH
X-PUBLISHED-TTL:P3D
REFRESH-INTERVAL:P3D
CALSCALE:GREGORIAN
BEGIN:VEVENT
DTSTART;VALUE=DATE:20110407
DTEND;VALUE=DATE:20110408
TRANSP:TRANSPARENT
X-MICROSOFT-CDO-ALLDAYEVENT:TRUE
SUMMARY:Valley Baptist Medical Center Spring $5.00 Jewelry & Gift Sale!
DESCRIPTION:Thursday\, April 7 (7am-7pm)\nFriday\, April 8 (7am-6pm)\nProceeds to benefit the VBMC Auxiliary.\nIf you have any questions\, please call Katie McCarty\, Director VBMC Volunteer Services 956-389-1193.
X-ALT-DESC;FMTTYPE=text/html:Thursday\, April 7 (7am-7pm)\nFriday\, April 8 (7am-6pm)\nProceeds to benefit the VBMC Auxiliary.\nIf you have any questions\, please call Katie McCarty\, Director VBMC Volunteer Services 956-389-1193. 
LOCATION:VBMC Harlingen - Woodward Conference Center
UID:e.1828.3018
SEQUENCE:3
DTSTAMP:20260421T125205Z
URL:https://business.harlingen.com/events/details/valley-baptist-medical-center-spring-5-00-jewelry-gift-sale-04-07-2011-3018
END:VEVENT

END:VCALENDAR
