BEGIN:VCALENDAR
VERSION:2.0
PRODID:-//ChamberMaster//Event Calendar 2.0//EN
METHOD:PUBLISH
X-PUBLISHED-TTL:P3D
REFRESH-INTERVAL:P3D
CALSCALE:GREGORIAN
BEGIN:VEVENT
DTSTART:20120926T220000Z
DTEND:20120927T000000Z
X-MICROSOFT-CDO-ALLDAYEVENT:FALSE
SUMMARY:Valley Baptist Open House and Ribbon Cutting for the New Biplane Laboratory
DESCRIPTION:Join us as we celebrate the first hospital in the nation to install the "biplane" GE INNOVA IGS 630 neurovascular angiography suite with an open house and ribbon cutting!  Refreshments will be served!
X-ALT-DESC;FMTTYPE=text/html:Join us as we celebrate the first hospital in the nation to install the "biplane" GE INNOVA IGS 630 neurovascular angiography suite with an open house and ribbon cutting!  Refreshments will be served!\n
LOCATION:Medical Arts Pavilion\, Entrance A\, Second Floor Cardiac Catheterization Laboratory
UID:e.1828.3984
SEQUENCE:3
DTSTAMP:20260420T101904Z
URL:https://business.harlingen.com/events/details/valley-baptist-open-house-and-ribbon-cutting-for-the-new-biplane-laboratory-09-26-2012-3984
END:VEVENT

END:VCALENDAR
