BEGIN:VCALENDAR
VERSION:2.0
PRODID:-//ChamberMaster//Event Calendar 2.0//EN
METHOD:PUBLISH
X-PUBLISHED-TTL:P3D
REFRESH-INTERVAL:P3D
CALSCALE:GREGORIAN
BEGIN:VEVENT
DTSTART;VALUE=DATE:20100614
DTEND;VALUE=DATE:20100725
TRANSP:TRANSPARENT
X-MICROSOFT-CDO-ALLDAYEVENT:TRUE
SUMMARY:Valley Baptist School of Vocational Nursing Pre-Entrance Testing
DESCRIPTION:Pre-Entrance Testing Dates for the Class of 2011 will run from Monday\, June 14 through Saturday\, July 24th.  Sign-up hours are: Monday – Thursday 8:00am – 4:00pm and Fridays 8:00am – 12:00 noon.  To Register: You must read all the information on the website at http://www.valleybaptist.net/educational/nursing/future.htm.  Print\, complete\, and sign registration form.  Pay testing fee of $65.00 (cash only) at the school office.  (Payments will not be accepted during testing sessions).  Photo ID and receipt showing payment are required to take the exam.   For more information & directions to the office\, please call 956-389-1721.
X-ALT-DESC;FMTTYPE=text/html:Pre-Entrance Testing Dates for the Class of 2011 will run from Monday\, June 14 through Saturday\, July 24th.  Sign-up hours are: Monday – Thursday 8:00am – 4:00pm and Fridays 8:00am – 12:00 noon.  To Register: You must read all the information on the website at http://www.valleybaptist.net/educational/nursing/future.htm.  Print\, complete\, and sign registration form.  Pay testing fee of $65.00 (cash only) at the school office.  (Payments will not be accepted during testing sessions).  Photo ID and receipt showing payment are required to take the exam.   For more information & directions to the office\, please call 956-389-1721.\n
LOCATION:
UID:e.1828.2553
SEQUENCE:3
DTSTAMP:20260422T015914Z
URL:https://business.harlingen.com/events/details/valley-baptist-school-of-vocational-nursing-pre-entrance-testing-06-14-2010-2553
END:VEVENT

END:VCALENDAR
