BEGIN:VCALENDAR
VERSION:2.0
PRODID:-//ChamberMaster//Event Calendar 2.0//EN
METHOD:PUBLISH
X-PUBLISHED-TTL:P3D
REFRESH-INTERVAL:P3D
CALSCALE:GREGORIAN
BEGIN:VEVENT
DTSTART:20100123T123000Z
DTEND:20100123T123000Z
X-MICROSOFT-CDO-ALLDAYEVENT:FALSE
SUMMARY:Valley Baptist South Texas Sizzler 5k & 10k Race
DESCRIPTION:Start times 7:30 am Little Sizzle (1 Mile Fun-Run) & 8:00 am 5K/10K.  5K/10K Awards: Overall Male/Female\, Masters Male/Female\, Age Groups 1st/2nd/3rd Male/Female in 13 age groups from 14 and under to 70 an up.  	Little Sizzle & Races:  All participants 14 and under will receive finisher's medal.  T-Shirts: Guaranteed to the first 300 registrants.  Packet Pick-Up at Expo: Valley Baptist Health & Fitness Center\, 3001 N. Augusta National in Harlingen\,  Friday 1/22 from 4:00 pm to 7:00 pm.  Race Day Registration: From 6:30 am to 7:30 am Rain or Shine.  If lightning exists\, race will take place on 1/24/10 at same location.  Online registration through Active.com\, easily accessed on the South Texas Sizzler 5K race information page at www.valleybaptist.net or www.unlimitedsportsadventures.com.  Proceeds benefit Miracle Kids of South Texas.
X-ALT-DESC;FMTTYPE=text/html:Start times 7:30 am Little Sizzle (1 Mile Fun-Run) & 8:00 am 5K/10K.  5K/10K Awards: Overall Male/Female\, Masters Male/Female\, Age Groups 1st/2nd/3rd Male/Female in 13 age groups from 14 and under to 70 an up.  	Little Sizzle & Races:  All participants 14 and under will receive finisher's medal.  T-Shirts: Guaranteed to the first 300 registrants.  Packet Pick-Up at Expo: Valley Baptist Health & Fitness Center\, 3001 N. Augusta National in Harlingen\,  Friday 1/22 from 4:00 pm to 7:00 pm.  Race Day Registration: From 6:30 am to 7:30 am Rain or Shine.  If lightning exists\, race will take place on 1/24/10 at same location.  Online registration through Active.com\, easily accessed on the South Texas Sizzler 5K race information page at www.valleybaptist.net or www.unlimitedsportsadventures.com.  Proceeds benefit Miracle Kids of South Texas.\n
LOCATION:East of Ed Carey Drive across from the landfill
UID:e.1828.2324
SEQUENCE:3
DTSTAMP:20260422T112141Z
URL:https://business.harlingen.com/events/details/valley-baptist-south-texas-sizzler-5k-10k-race-01-23-2010-2324
END:VEVENT

END:VCALENDAR
