BEGIN:VCALENDAR
VERSION:2.0
PRODID:-//ChamberMaster//Event Calendar 2.0//EN
METHOD:PUBLISH
X-PUBLISHED-TTL:P3D
REFRESH-INTERVAL:P3D
CALSCALE:GREGORIAN
BEGIN:VEVENT
DTSTART:20110908T220000Z
DTEND:20110908T220000Z
X-MICROSOFT-CDO-ALLDAYEVENT:FALSE
SUMMARY:Valley Business Report Business After Hours Mixer
DESCRIPTION:Valley Business Report will be celebrating the opening of their new location in downtown Harlingen. Join us in a Ribbon Cutting Ceremony with a mixer to follow. Don't miss this great networking opportunity! New York Deli sandwiches\, tea\, and adult beverages will be served.
X-ALT-DESC;FMTTYPE=text/html: Valley Business Report will be celebrating the opening of their new location in downtown Harlingen. Join us in a Ribbon Cutting Ceremony with a mixer to follow. Don't miss this great networking opportunity! New York Deli sandwiches\, tea\, and adult beverages will be served. \n
LOCATION:Corner of 1st & Jackson
UID:e.1828.3149
SEQUENCE:3
DTSTAMP:20260421T052418Z
URL:https://business.harlingen.com/events/details/valley-business-report-business-after-hours-mixer-09-08-2011-3149
END:VEVENT

END:VCALENDAR
