BEGIN:VCALENDAR
VERSION:2.0
PRODID:-//ChamberMaster//Event Calendar 2.0//EN
METHOD:PUBLISH
X-PUBLISHED-TTL:P3D
REFRESH-INTERVAL:P3D
CALSCALE:GREGORIAN
BEGIN:VEVENT
DTSTART:20120211T150000Z
DTEND:20120211T210000Z
X-MICROSOFT-CDO-ALLDAYEVENT:FALSE
SUMMARY:Valley Byliners 2012 Workshop
DESCRIPTION:Registration for the Valley Byliners 2012 Workshop\n"Get That Book Published!" \nSaturday Feb. 11    9 a.m. - 3 p.m.\nHarlingen Public Library\nNow is your opportunity to pay only $40 for interactive learning and fun with leader Laurel Bill\, award-winning journalist and author of Aunt Phil's Trunk Alaskan history book series. \nAnticipate lively narratives on:\n•How to get started\n•Pros and Cons of four kinds of publishing\n•Marketing tips to make your plan work  \nBonus handouts with 200-plus Websites that offer free book marketing and author tools! \n\nEarly Registration:$35.00 \nMail check payable to:\n\nValley Byliners\nc/o Jose Alvarez\n130 Pizarro Ave\nRancho Viejo\, TX.  78575
X-ALT-DESC;FMTTYPE=text/html:Registration for the Valley Byliners 2012 Workshop\n"Get That Book Published!" \nSaturday Feb. 11    9 a.m. - 3 p.m.\nHarlingen Public Library\nNow is your opportunity to pay only $40 for interactive learning and fun with leader Laurel Bill\, award-winning journalist and author of Aunt Phil's Trunk Alaskan history book series. \nAnticipate lively narratives on:\n•How to get started\n•Pros and Cons of four kinds of publishing\n•Marketing tips to make your plan work  \nBonus handouts with 200-plus Websites that offer free book marketing and author tools! \n\nEarly Registration:$35.00 \nMail check payable to:\n\nValley Byliners\nc/o Jose Alvarez\n130 Pizarro Ave\nRancho Viejo\, TX.  78575  \n
LOCATION:
UID:e.1828.3355
SEQUENCE:3
DTSTAMP:20260420T194404Z
URL:https://business.harlingen.com/events/details/valley-byliners-2012-workshop-02-11-2012-3355
END:VEVENT

END:VCALENDAR
