BEGIN:VCALENDAR
VERSION:2.0
PRODID:-//ChamberMaster//Event Calendar 2.0//EN
METHOD:PUBLISH
X-PUBLISHED-TTL:P3D
REFRESH-INTERVAL:P3D
CALSCALE:GREGORIAN
BEGIN:VEVENT
DTSTART:20120121T190000Z
DTEND:20120121T220000Z
X-MICROSOFT-CDO-ALLDAYEVENT:FALSE
SUMMARY:Valley Byliners Book Signing - Laurel Bill
DESCRIPTION:Laurel Bill will be having various book signings around the Rio Grande Valley in January\, including one at Jackson Street Antiques\, 207 W. Jackson St. (between Commerce and "A" Streets). Refreshments will be provided.
X-ALT-DESC;FMTTYPE=text/html:Laurel Bill will be having various book signings around the Rio Grande Valley in January\, including one at Jackson Street Antiques\, 207 W. Jackson St. (between Commerce and "A" Streets). Refreshments will be provided. \n
LOCATION:
UID:e.1828.3376
SEQUENCE:3
DTSTAMP:20260420T212956Z
URL:https://business.harlingen.com/events/details/valley-byliners-book-signing-laurel-bill-01-21-2012-3376
END:VEVENT

END:VCALENDAR
