BEGIN:VCALENDAR
VERSION:2.0
PRODID:-//ChamberMaster//Event Calendar 2.0//EN
METHOD:PUBLISH
X-PUBLISHED-TTL:P3D
REFRESH-INTERVAL:P3D
CALSCALE:GREGORIAN
BEGIN:VEVENT
DTSTART:20100626T143000Z
DTEND:20100626T170000Z
X-MICROSOFT-CDO-ALLDAYEVENT:FALSE
SUMMARY:Valley Byliners "Meet the Authors" Event
DESCRIPTION:Don't miss the Valley Byliners next ''Meet the Authors'' event\, Sat.\, June 26\, at the Java Cafe\, 204 E. Jackson St.\, Harlingen from 9:30 a.m. – 12 p.m.  Byliners new book\, Collected Tales From the Rio Grande\, edited by Don Clifford\, was written by local authors who have pooled their talents for your reading pleasure. Nestled between Jack King's vivid cover and Janet Wilder's nostalgic back-cover photo\, lie 236 pages of fictional stories and insightful poems about the Valley.  If you seek excitement\, suspense\, or just plain enjoyment\, purchase your copy today ($18\, does not include shipping). For more information\, contact: Don Clifford: 956-244-2269 or write to the Valley Byliners\, 2101 East Bowie Ave.\, Harlingen\, TX  78550.
X-ALT-DESC;FMTTYPE=text/html:Don't miss the Valley Byliners next ''Meet the Authors'' event\, Sat.\, June 26\, at the Java Cafe\, 204 E. Jackson St.\, Harlingen from 9:30 a.m. – 12 p.m.  Byliners new book\, Collected Tales From the Rio Grande\, edited by Don Clifford\, was written by local authors who have pooled their talents for your reading pleasure. Nestled between Jack King's vivid cover and Janet Wilder's nostalgic back-cover photo\, lie 236 pages of fictional stories and insightful poems about the Valley.  If you seek excitement\, suspense\, or just plain enjoyment\, purchase your copy today ($18\, does not include shipping). For more information\, contact: Don Clifford: 956-244-2269 or write to the Valley Byliners\, 2101 East Bowie Ave.\, Harlingen\, TX  78550. 
LOCATION:
UID:e.1828.2589
SEQUENCE:3
DTSTAMP:20260422T031231Z
URL:https://business.harlingen.com/events/details/valley-byliners-meet-the-authors-event-06-26-2010-2589
END:VEVENT

END:VCALENDAR
