BEGIN:VCALENDAR
VERSION:2.0
PRODID:-//ChamberMaster//Event Calendar 2.0//EN
METHOD:PUBLISH
X-PUBLISHED-TTL:P3D
REFRESH-INTERVAL:P3D
CALSCALE:GREGORIAN
BEGIN:VEVENT
DTSTART:20101104T223000Z
DTEND:20101105T003000Z
X-MICROSOFT-CDO-ALLDAYEVENT:FALSE
SUMMARY:Valley Center for Sleep & Lung Disease / Grand Opening & Ribbon Cutting
DESCRIPTION:You are invited to join Dr. Eugene Chandler Deal Jr.\, M.D./Valley Center for Sleep & Lung Disease as they celebrate their Grand Opening. Program to include vendor attendance supporting the DME and Home Health aspects of the business. Hors d'oeuvres and beverages will be served.
X-ALT-DESC;FMTTYPE=text/html:You are invited to join Dr. Eugene Chandler Deal Jr.\, M.D./Valley Center for Sleep & Lung Disease as they celebrate their Grand Opening. Program to include vendor attendance supporting the DME and Home Health aspects of the business. Hors d'oeuvres and beverages will be served.\n
LOCATION:
UID:e.1828.2814
SEQUENCE:3
DTSTAMP:20260421T190612Z
URL:https://business.harlingen.com/events/details/valley-center-for-sleep-lung-disease-grand-opening-ribbon-cutting-11-04-2010-2814
END:VEVENT

END:VCALENDAR
