BEGIN:VCALENDAR
VERSION:2.0
PRODID:-//ChamberMaster//Event Calendar 2.0//EN
METHOD:PUBLISH
X-PUBLISHED-TTL:P3D
REFRESH-INTERVAL:P3D
CALSCALE:GREGORIAN
BEGIN:VEVENT
DTSTART:20100924T130000Z
DTEND:20100924T200000Z
X-MICROSOFT-CDO-ALLDAYEVENT:FALSE
SUMMARY:Valley Environmental Summit 2010
DESCRIPTION:There will be a series of presentations and discussions about what each one of us can do to improve our environment.  Some of the topics include: waste such as illegal disposal sites of used tires and household hazardous waste and an overview of water delivery. Hosted by State Representative Eddie Lucio III. Keynote Speaker: Jo Straus\, Texas Speaker of the House. Limited seating. Please rsvp by calling (956) 430-6028 or register online at www.valleyes.org
X-ALT-DESC;FMTTYPE=text/html:There will be a series of presentations and discussions about what each one of us can do to improve our environment.  Some of the topics include: waste such as illegal disposal sites of used tires and household hazardous waste and an overview of water delivery. Hosted by State Representative Eddie Lucio III. Keynote Speaker: Jo Straus\, Texas Speaker of the House. Limited seating. Please rsvp by calling (956) 430-6028 or register online at www.valleyes.org \n \n
LOCATION:
UID:e.1828.2763
SEQUENCE:3
DTSTAMP:20260422T000657Z
URL:https://business.harlingen.com/events/details/valley-environmental-summit-2010-09-24-2010-2763
END:VEVENT

END:VCALENDAR
