BEGIN:VCALENDAR
VERSION:2.0
PRODID:-//ChamberMaster//Event Calendar 2.0//EN
METHOD:PUBLISH
X-PUBLISHED-TTL:P3D
REFRESH-INTERVAL:P3D
CALSCALE:GREGORIAN
BEGIN:VEVENT
DTSTART:20111028T130000Z
DTEND:20111028T200000Z
X-MICROSOFT-CDO-ALLDAYEVENT:FALSE
SUMMARY:Valley Environmental Summit 2011
DESCRIPTION:Please join in for a series of presentations and discussions about what each one of us can do to improve our environment. Some of the topics include: City ordinances of used scrap tires\, plastic bags\, recycling\, energy and water conservation. Hosted by: Eddie Lucio III\, Texas State Representative. Keynote speaker: TCEQ Commissioner Buddy Garcia. Please RSVP before October 21. Registration will be available online at www.valleyes.org  or by calling (956) 430-6014.
X-ALT-DESC;FMTTYPE=text/html:Please join in for a series of presentations and discussions about what each one of us can do to improve our environment. Some of the topics include: City ordinances of used scrap tires\, plastic bags\, recycling\, energy and water conservation. Hosted by: Eddie Lucio III\, Texas State Representative. Keynote speaker: TCEQ Commissioner Buddy Garcia. Please RSVP before October 21. Registration will be available online at www.valleyes.org  or by calling (956) 430-6014. \n
LOCATION:
UID:e.1828.3198
SEQUENCE:3
DTSTAMP:20260421T033839Z
URL:https://business.harlingen.com/events/details/valley-environmental-summit-2011-10-28-2011-3198
END:VEVENT

END:VCALENDAR
