BEGIN:VCALENDAR
VERSION:2.0
PRODID:-//ChamberMaster//Event Calendar 2.0//EN
METHOD:PUBLISH
X-PUBLISHED-TTL:P3D
REFRESH-INTERVAL:P3D
CALSCALE:GREGORIAN
BEGIN:VEVENT
DTSTART:20121004T130000Z
DTEND:20121004T200000Z
X-MICROSOFT-CDO-ALLDAYEVENT:FALSE
SUMMARY:Valley Environmental Summit 2012
DESCRIPTION:Please join us for a series of presentations and discussions about what each one of us can do to improve our environment. Some ot the topics include: water pollution\, waste management\, sustainability and environmental technology. Hosted by State Representative Eddie Lucio III. Lunch keynote speaker\, Billy R. Bradford Jr. Chairman\, Texas Water Development Board. \n\nThe Valley Enviromental Summit was created by state\, county and local political leaders\, neighborhood associations\, colonia residents\, non-profit organizations and with the support of Eddie Lucio\, State Representative\, to address the environmental needs and successes that are found in our community. \n\nPlease RSVP before September 21\, 2012\nRegistration will be available online at www.valleyes.org or by calling (956)430-6027. Limited seating
X-ALT-DESC;FMTTYPE=text/html:Please join us for a series of presentations and discussions about what each one of us can do to improve our environment. Some ot the topics include: water pollution\, waste management\, sustainability and environmental technology. Hosted by State Representative Eddie Lucio III. Lunch keynote speaker\, Billy R. Bradford Jr. Chairman\, Texas Water Development Board. \n\nThe Valley Enviromental Summit was created by state\, county and local political leaders\, neighborhood associations\, colonia residents\, non-profit organizations and with the support of Eddie Lucio\, State Representative\, to address the environmental needs and successes that are found in our community. \n\nPlease RSVP before September 21\, 2012\nRegistration will be available online at www.valleyes.org or by calling (956)430-6027. Limited seating 
LOCATION:
UID:e.1828.3998
SEQUENCE:3
DTSTAMP:20260420T083811Z
URL:https://business.harlingen.com/events/details/valley-environmental-summit-2012-10-04-2012-3998
END:VEVENT

END:VCALENDAR
