BEGIN:VCALENDAR
VERSION:2.0
PRODID:-//ChamberMaster//Event Calendar 2.0//EN
METHOD:PUBLISH
X-PUBLISHED-TTL:P3D
REFRESH-INTERVAL:P3D
CALSCALE:GREGORIAN
BEGIN:VEVENT
DTSTART;VALUE=DATE:20110509
DTEND;VALUE=DATE:20110705
TRANSP:TRANSPARENT
X-MICROSOFT-CDO-ALLDAYEVENT:TRUE
SUMMARY:Valley Hero Relief
DESCRIPTION:Support our Valley Heroes this 4th of July! You can show our Valley Troops how much you appreciate their service to our country by helping American Military Support provide our Troops with a special 4th of July QLP (Quality of Life Package). The QLP will provide Valley Troops with supplies that will help them find some relief from the summer heat! Show your support for our Valley Heroes and donate today! \n\nMonetary Donations are welcomed and may be made via PayPal\, deposited account at First Community Bank (55417)\, or mail a check/Money Order to : \nAmerican Military Support\nP.O. Box 533365\nHarlingen\, TX.  78553  or call 956-425-1549\n\nItems may be dropped off at the Harlingen Chamber of Commerce at 311 East Tyler\, Harlingen. For other drop off locations visit our website at americanmilitarysupport.com \n\n"Warriors Round-Up" If you would like for your loved ones\, serving over- seas to receive an Easter "Quality of Life Package"\, please enroll them thru the "Warrior Round-Up" campaign by visiting our website or by e-mailing us at referrals@americanmilitarysupport.com \n\nSummer Relief Supplies requested: Sunglasses\, Eyeglass Cleaner\, Sunscreen\, Antibiotic Ointment\, Foot Powder\, Shoe Insoles\, Flea Collars\, Pain Reliever (Advil\, etc.)\, Cooling Ties\, Athlete Foot Cream\, Mini First Aid Kit\, Band-aids.
X-ALT-DESC;FMTTYPE=text/html:Support our Valley Heroes this 4th of July! You can show our Valley Troops how much you appreciate their service to our country by helping American Military Support provide our Troops with a special 4th of July QLP (Quality of Life Package). The QLP will provide Valley Troops with supplies that will help them find some relief from the summer heat! Show your support for our Valley Heroes and donate today! \n\nMonetary Donations are welcomed and may be made via PayPal\, deposited account at First Community Bank (55417)\, or mail a check/Money Order to : \nAmerican Military Support\nP.O. Box 533365\nHarlingen\, TX.  78553  or call 956-425-1549\n\nItems may be dropped off at the Harlingen Chamber of Commerce at 311 East Tyler\, Harlingen. For other drop off locations visit our website at americanmilitarysupport.com \n\n"Warriors Round-Up" If you would like for your loved ones\, serving over- seas to receive an Easter "Quality of Life Package"\, please enroll them thru the "Warrior Round-Up" campaign by visiting our website or by e-mailing us at referrals@americanmilitarysupport.com \n\nSummer Relief Supplies requested: Sunglasses\, Eyeglass Cleaner\, Sunscreen\, Antibiotic Ointment\, Foot Powder\, Shoe Insoles\, Flea Collars\, Pain Reliever (Advil\, etc.)\, Cooling Ties\, Athlete Foot Cream\, Mini First Aid Kit\, Band-aids. \n
LOCATION:
UID:e.1828.3061
SEQUENCE:3
DTSTAMP:20260421T063912Z
URL:https://business.harlingen.com/events/details/valley-hero-relief-05-09-2011-3061
END:VEVENT

END:VCALENDAR
