BEGIN:VCALENDAR
VERSION:2.0
PRODID:-//ChamberMaster//Event Calendar 2.0//EN
METHOD:PUBLISH
X-PUBLISHED-TTL:P3D
REFRESH-INTERVAL:P3D
CALSCALE:GREGORIAN
BEGIN:VEVENT
DTSTART:20120113T160000Z
DTEND:20120113T160000Z
X-MICROSOFT-CDO-ALLDAYEVENT:FALSE
SUMMARY:Valley Metro Ribbon Cutting Ceremony
DESCRIPTION:We cordially invite you to a ribbon cuttting ceremony featuring our new buses for the Harlingen\, San Benito\, La Feria\, and Santa Rosa service area.\n\nConfirmed Speakers: Carlos Cascos\, Cameron County Judge\, Chris Boswell\, City of Harlingen Mayor\, Kenneth N. Jones Jr.\, LRGVDC Executive Director
X-ALT-DESC;FMTTYPE=text/html:We cordially invite you to a ribbon cuttting ceremony featuring our new buses for the Harlingen\, San Benito\, La Feria\, and Santa Rosa service area.\n\nConfirmed Speakers: Carlos Cascos\, Cameron County Judge\, Chris Boswell\, City of Harlingen Mayor\, Kenneth N. Jones Jr.\, LRGVDC Executive Director
LOCATION:
UID:e.1828.3366
SEQUENCE:3
DTSTAMP:20260420T212225Z
URL:https://business.harlingen.com/events/details/valley-metro-ribbon-cutting-ceremony-01-13-2012-3366
END:VEVENT

END:VCALENDAR
