BEGIN:VCALENDAR
VERSION:2.0
PRODID:-//ChamberMaster//Event Calendar 2.0//EN
METHOD:PUBLISH
X-PUBLISHED-TTL:P3D
REFRESH-INTERVAL:P3D
CALSCALE:GREGORIAN
BEGIN:VEVENT
DTSTART:20091017T170000Z
DTEND:20091017T220000Z
X-MICROSOFT-CDO-ALLDAYEVENT:FALSE
SUMMARY:Valley Morning Star Annual Job Fair
DESCRIPTION:Don't miss the Valley Morning Star's Annual Job Fair on Saturday\, October 17\, 2009 from 12:00 - 5:00 pm at Valle Vista Mall.  Looking for New Hires?  Don't miss the chance to promote your Career or Education opportunities to job seekers and students through out the Rio Grande Valley.  Market your establishment and recruit new prospective staff members through out the Rio Grande Valley.  Hurry\, booths are limited!  For more information please call or email Priscilla Garcia at (956) 430-6236 or priscillag@valleystar.com or\, Liza Aguilar at   (956) 421 9873 or lizaa@valleystar.com.  Deadline to Register is October 9th.
X-ALT-DESC;FMTTYPE=text/html:Don't miss the Valley Morning Star's Annual Job Fair on Saturday\, October 17\, 2009 from 12:00 - 5:00 pm at Valle Vista Mall.  Looking for New Hires?  Don't miss the chance to promote your Career or Education opportunities to job seekers and students through out the Rio Grande Valley.  Market your establishment and recruit new prospective staff members through out the Rio Grande Valley.  Hurry\, booths are limited!  For more information please call or email Priscilla Garcia at (956) 430-6236 or priscillag@valleystar.com or\, Liza Aguilar at   (956) 421 9873 or lizaa@valleystar.com.  Deadline to Register is October 9th.\n
LOCATION:
UID:e.1828.2155
SEQUENCE:3
DTSTAMP:20260422T112124Z
URL:https://business.harlingen.com/events/details/valley-morning-star-annual-job-fair-10-17-2009-2155
END:VEVENT

END:VCALENDAR
