BEGIN:VCALENDAR
VERSION:2.0
PRODID:-//ChamberMaster//Event Calendar 2.0//EN
METHOD:PUBLISH
X-PUBLISHED-TTL:P3D
REFRESH-INTERVAL:P3D
CALSCALE:GREGORIAN
BEGIN:VEVENT
DTSTART:20120725T223000Z
DTEND:20120726T010000Z
X-MICROSOFT-CDO-ALLDAYEVENT:FALSE
SUMMARY:Valley Morning Star Mixer and Reader's Choice Announcements
DESCRIPTION:Please join us for a mixer as we celebrate our Reader's Choice Winners!
X-ALT-DESC;FMTTYPE=text/html:Please join us for a mixer as we celebrate our Reader's Choice Winners!\n
LOCATION:
UID:e.1828.3856
SEQUENCE:3
DTSTAMP:20260420T132258Z
URL:https://business.harlingen.com/events/details/valley-morning-star-mixer-and-reader-s-choice-announcements-07-25-2012-3856
END:VEVENT

END:VCALENDAR
