BEGIN:VCALENDAR
VERSION:2.0
PRODID:-//ChamberMaster//Event Calendar 2.0//EN
METHOD:PUBLISH
X-PUBLISHED-TTL:P3D
REFRESH-INTERVAL:P3D
CALSCALE:GREGORIAN
BEGIN:VEVENT
DTSTART:20121016T143000Z
DTEND:20121016T163000Z
X-MICROSOFT-CDO-ALLDAYEVENT:FALSE
SUMMARY:''Valley Proud Environmental Council''
DESCRIPTION:Harlingen - Center for Creative Retirement Lecture Series- ''Valley Proud Environmental Council'' Georgiana Matz\, Chair of Valley Proud\, will describe the organization and its widespread activities\, including school programs in recycling\, beach clean-ups\, reforestation\, and other environmental activities. 9:30 to 11:30 AM\, Harlingen Public Library\, $5.00 fee for non-members. For more information\, please contact Maggie Ortiz at the Harlingen Area Chamber of Commerce at (956) 423-5440.
X-ALT-DESC;FMTTYPE=text/html:Harlingen - Center for Creative Retirement Lecture Series- ''Valley Proud Environmental Council'' Georgiana Matz\, Chair of Valley Proud\, will describe the organization and its widespread activities\, including school programs in recycling\, beach clean-ups\, reforestation\, and other environmental activities. 9:30 to 11:30 AM\, Harlingen Public Library\, $5.00 fee for non-members. For more information\, please contact Maggie Ortiz at the Harlingen Area Chamber of Commerce at (956) 423-5440.\n
LOCATION:
UID:e.1828.4020
SEQUENCE:3
DTSTAMP:20260420T085506Z
URL:https://business.harlingen.com/events/details/valley-proud-environmental-council-10-16-2012-4020
END:VEVENT

END:VCALENDAR
