BEGIN:VCALENDAR
VERSION:2.0
PRODID:-//ChamberMaster//Event Calendar 2.0//EN
METHOD:PUBLISH
X-PUBLISHED-TTL:P3D
REFRESH-INTERVAL:P3D
CALSCALE:GREGORIAN
BEGIN:VEVENT
DTSTART;VALUE=DATE:20111125
DTEND;VALUE=DATE:20111128
TRANSP:TRANSPARENT
X-MICROSOFT-CDO-ALLDAYEVENT:TRUE
SUMMARY:Valley Race Park LIVE RACING IS BACK!!
DESCRIPTION:LIVE!   LIVE!   LIVE!   LIVE!   LIVE!   LIVE!   LIVE!   LIVE!   LIVE!\n\nLIVE RACING IS BACK!!\n  \nEXPERIENCE THE EXCITEMENT OF LIVE RACING 5 DAYS ONLY IT ALL BEGINS!!! \nTHANKSGIVING WEEKEND!      \n                      \nWhere: Valley Race Track\nWhen: November 25th 26th & 27th \n            Dec. 3rd & 4th\nPost Time: 1:00 PM\nADMISSION ONLY $2.00   \n \nDON'T MISS IT!!!! \n\nEvery Friday night: Valley Race Park $1.00 Miller High Life Draft Night Featured at the Fiesta Bar\n5:00 pm to 12:00 am.
X-ALT-DESC;FMTTYPE=text/html: LIVE!   LIVE!   LIVE!   LIVE!   LIVE!   LIVE!   LIVE!   LIVE!   LIVE!\n\nLIVE RACING IS BACK!!\n  \nEXPERIENCE THE EXCITEMENT OF LIVE RACING 5 DAYS ONLY IT ALL BEGINS!!! \nTHANKSGIVING WEEKEND!      \n                      \nWhere: Valley Race Track\nWhen: November 25th 26th & 27th \n            Dec. 3rd & 4th\nPost Time: 1:00 PM\nADMISSION ONLY $2.00   \n \nDON'T MISS IT!!!! \n\nEvery Friday night: Valley Race Park $1.00 Miller High Life Draft Night Featured at the Fiesta Bar\n5:00 pm to 12:00 am.\n \n \n\n
LOCATION:
UID:e.1828.3235
SEQUENCE:3
DTSTAMP:20260421T020542Z
URL:https://business.harlingen.com/events/details/valley-race-park-live-racing-is-back-11-25-2011-3235
END:VEVENT

END:VCALENDAR
