BEGIN:VCALENDAR
VERSION:2.0
PRODID:-//ChamberMaster//Event Calendar 2.0//EN
METHOD:PUBLISH
X-PUBLISHED-TTL:P3D
REFRESH-INTERVAL:P3D
CALSCALE:GREGORIAN
BEGIN:VEVENT
DTSTART;VALUE=DATE:20100212
DTEND;VALUE=DATE:20100213
TRANSP:TRANSPARENT
X-MICROSOFT-CDO-ALLDAYEVENT:TRUE
SUMMARY:Vance Greek's Annual Valentine's Concert
DESCRIPTION:Come hear many of your favorite songs about Love & Inspiration\, Patriotism & Gospel. Plus some Comedy\, too!  Vance's special guests include his daughter\, Gina Greek\, and Rolando Reyes of The Deep River Boys.  Also featuring The Vintage Vegas Band.  First performance at 3:00 pm.  Evening performance at 7:00 pm.  Reserve your seat now.  Ticket prices $12\, $15 & $18.  To purchase tickets contact the auditorium boxoffice at 956-216-5990 or online at www.harlingenarts.com.
X-ALT-DESC;FMTTYPE=text/html:Come hear many of your favorite songs about Love & Inspiration\, Patriotism & Gospel. Plus some Comedy\, too!  Vance's special guests include his daughter\, Gina Greek\, and Rolando Reyes of The Deep River Boys.  Also featuring The Vintage Vegas Band.  First performance at 3:00 pm.  Evening performance at 7:00 pm.  Reserve your seat now.  Ticket prices $12\, $15 & $18.  To purchase tickets contact the auditorium boxoffice at 956-216-5990 or online at www.harlingenarts.com.
LOCATION:
UID:e.1828.2365
SEQUENCE:3
DTSTAMP:20260422T112133Z
URL:https://business.harlingen.com/events/details/vance-greek-s-annual-valentine-s-concert-02-12-2010-2365
END:VEVENT

END:VCALENDAR
