BEGIN:VCALENDAR
VERSION:2.0
PRODID:-//ChamberMaster//Event Calendar 2.0//EN
METHOD:PUBLISH
X-PUBLISHED-TTL:P3D
REFRESH-INTERVAL:P3D
CALSCALE:GREGORIAN
BEGIN:VEVENT
DTSTART;VALUE=DATE:20120211
DTEND;VALUE=DATE:20120212
TRANSP:TRANSPARENT
X-MICROSOFT-CDO-ALLDAYEVENT:TRUE
SUMMARY:Vance Greek Valentine's Day Concert
DESCRIPTION:Vance Greek\, known as the "Golden Voice of Branson"\, will be performing a Valentine's Concert on Saturday\, Feb. 11th at 3pm and 7pm at the Harlingen Municipal Auditorium. This year's show will feature Larry Randall and his 30-piece Big Band Joshua Experience. The Deep Rivers Boys\, Greek's popular quartet\, will also perform several songs. The group consists of Rolando Reyes\, lead singer\, Frontis Newell\, tenor\, Vance Greek bariton\, and Jerry Hartzog\, bass. Vickie Russell\, Greek's sister and Rolando Reyes will also perform for the show. The shows begins at 2:30pm and 6:30pm with a 30 minute pre-show featuring some of Vance friends. Those who attend are encouraged to take a can of food to be donated to Loaves and Fishes\, a homeless shelter and food pantry in Harlingen.
X-ALT-DESC;FMTTYPE=text/html:Vance Greek\, known as the "Golden Voice of Branson"\, will be performing a Valentine's Concert on Saturday\, Feb. 11th at 3pm and 7pm at the Harlingen Municipal Auditorium. This year's show will feature Larry Randall and his 30-piece Big Band Joshua Experience. The Deep Rivers Boys\, Greek's popular quartet\, will also perform several songs. The group consists of Rolando Reyes\, lead singer\, Frontis Newell\, tenor\, Vance Greek bariton\, and Jerry Hartzog\, bass. Vickie Russell\, Greek's sister and Rolando Reyes will also perform for the show. The shows begins at 2:30pm and 6:30pm with a 30 minute pre-show featuring some of Vance friends. Those who attend are encouraged to take a can of food to be donated to Loaves and Fishes\, a homeless shelter and food pantry in Harlingen. 
LOCATION:
UID:e.1828.3422
SEQUENCE:3
DTSTAMP:20260420T200411Z
URL:https://business.harlingen.com/events/details/vance-greek-valentine-s-day-concert-02-11-2012-3422
END:VEVENT

END:VCALENDAR
