BEGIN:VCALENDAR
VERSION:2.0
PRODID:-//ChamberMaster//Event Calendar 2.0//EN
METHOD:PUBLISH
X-PUBLISHED-TTL:P3D
REFRESH-INTERVAL:P3D
CALSCALE:GREGORIAN
BEGIN:VEVENT
DTSTART:20101201T003000Z
DTEND:20101201T003000Z
X-MICROSOFT-CDO-ALLDAYEVENT:FALSE
SUMMARY:VBMC 19th Annual Lights for Life Ceremony
DESCRIPTION:Come help us celebrate our 19th Annual Lights for Life Ceremony on Tuesday\, November 2\, 2010 at 6:30 pm. Join us for a tree lighting ceremony\, caroling and refreshments.  A very special guest will be making an appearance for all who are young at heart!  East Tower entrance at Valley Baptist Medical Center. For more information\, please call 956-389-1614.
X-ALT-DESC;FMTTYPE=text/html:Come help us celebrate our 19th Annual Lights for Life Ceremony on Tuesday\, November 2\, 2010 at 6:30 pm. Join us for a tree lighting ceremony\, caroling and refreshments.  A very special guest will be making an appearance for all who are young at heart!  East Tower entrance at Valley Baptist Medical Center. For more information\, please call 956-389-1614.\n
LOCATION:
UID:e.1828.2684
SEQUENCE:3
DTSTAMP:20260421T190136Z
URL:https://business.harlingen.com/events/details/vbmc-19th-annual-lights-for-life-ceremony-11-30-2010-2684
END:VEVENT

END:VCALENDAR
