BEGIN:VCALENDAR
VERSION:2.0
PRODID:-//ChamberMaster//Event Calendar 2.0//EN
METHOD:PUBLISH
X-PUBLISHED-TTL:P3D
REFRESH-INTERVAL:P3D
CALSCALE:GREGORIAN
BEGIN:VEVENT
DTSTART:20091012T120000Z
DTEND:20091013T000000Z
X-MICROSOFT-CDO-ALLDAYEVENT:FALSE
SUMMARY:VBMC AUXILIARIES $5 JEWELRY & GIFT SALE
DESCRIPTION:The Ever Popular $5 JEWELRY & GIFT SALE is back!  Sponsored by VBMC Auxiliaries.  Benefiting Nursing Scholarship Funds at VBMC.  Accepting Cash\, Checks\, Credit Cards (Payroll Deduction for VBMC employees).\nFor more information\, call 956-389-1193 in Harlingen.  Fabulous gifts for family\, friends\, and yourself!! \nGreat Christmas Gifts!
X-ALT-DESC;FMTTYPE=text/html:The Ever Popular $5 JEWELRY & GIFT SALE is back!  Sponsored by VBMC Auxiliaries.  Benefiting Nursing Scholarship Funds at VBMC.  Accepting Cash\, Checks\, Credit Cards (Payroll Deduction for VBMC employees).\nFor more information\, call 956-389-1193 in Harlingen.  Fabulous gifts for family\, friends\, and yourself!! \nGreat Christmas Gifts!\n
LOCATION:
UID:e.1828.2124
SEQUENCE:3
DTSTAMP:20260422T112315Z
URL:https://business.harlingen.com/events/details/vbmc-auxiliaries-5-jewelry-gift-sale-10-12-2009-2124
END:VEVENT

END:VCALENDAR
