BEGIN:VCALENDAR
VERSION:2.0
PRODID:-//ChamberMaster//Event Calendar 2.0//EN
METHOD:PUBLISH
X-PUBLISHED-TTL:P3D
REFRESH-INTERVAL:P3D
CALSCALE:GREGORIAN
BEGIN:VEVENT
DTSTART:20120130T130000Z
DTEND:20120131T000000Z
X-MICROSOFT-CDO-ALLDAYEVENT:FALSE
SUMMARY:VBMC Auxiliary Super Sale!
DESCRIPTION:You are invited to our VBMC Auxiliary Super Sale!\nIncludes:\n--Handbags\n--Designer fragrances\n--Housewares\n--Name brand athletic footwear\n--Official Dallas Cowboys sportswear & more!\n  \nBrownsville Location\n \nWednesday\, February 1\, 2012\n7:00am - 6:00pm\nVBMC Tower Conference Room - 1st Floor\nBrownsville\, TX  (698-4059)
X-ALT-DESC;FMTTYPE=text/html:You are invited to our VBMC Auxiliary Super Sale!\nIncludes:\n--Handbags\n--Designer fragrances\n--Housewares\n--Name brand athletic footwear\n--Official Dallas Cowboys sportswear & more!\n  \nBrownsville Location\n \nWednesday\, February 1\, 2012\n7:00am - 6:00pm\nVBMC Tower Conference Room - 1st Floor\nBrownsville\, TX  (698-4059)\n
LOCATION:
UID:e.1828.3386
SEQUENCE:3
DTSTAMP:20260420T212151Z
URL:https://business.harlingen.com/events/details/vbmc-auxiliary-super-sale-01-30-2012-3386
END:VEVENT

END:VCALENDAR
