BEGIN:VCALENDAR
VERSION:2.0
PRODID:-//ChamberMaster//Event Calendar 2.0//EN
METHOD:PUBLISH
X-PUBLISHED-TTL:P3D
REFRESH-INTERVAL:P3D
CALSCALE:GREGORIAN
BEGIN:VEVENT
DTSTART:20120201T130000Z
DTEND:20120202T000000Z
X-MICROSOFT-CDO-ALLDAYEVENT:FALSE
SUMMARY:VBMC Auxiliary Super Sale!
DESCRIPTION:You are invited to our VBMC Auxiliary Super Sale!\nIncludes:\n--Handbags\n--Designer fragrances\n--Housewares\n--Name brand athletic footwear\n--Official Dallas Cowboys sportswear & more!
X-ALT-DESC;FMTTYPE=text/html:You are invited to our VBMC Auxiliary Super Sale!\nIncludes:\n--Handbags\n--Designer fragrances\n--Housewares\n--Name brand athletic footwear\n--Official Dallas Cowboys sportswear & more!\n \n
LOCATION:
UID:e.1828.3387
SEQUENCE:3
DTSTAMP:20260420T212151Z
URL:https://business.harlingen.com/events/details/vbmc-auxiliary-super-sale-02-01-2012-3387
END:VEVENT

END:VCALENDAR
