BEGIN:VCALENDAR
VERSION:2.0
PRODID:-//ChamberMaster//Event Calendar 2.0//EN
METHOD:PUBLISH
X-PUBLISHED-TTL:P3D
REFRESH-INTERVAL:P3D
CALSCALE:GREGORIAN
BEGIN:VEVENT
DTSTART:20120427T180000Z
DTEND:20120427T210000Z
X-MICROSOFT-CDO-ALLDAYEVENT:FALSE
SUMMARY:VBMC & Care Management Student Intern
DESCRIPTION:Valley Baptist Medical Center and Care Management Student Intern would like invite you to attend the CommUnity Resource Fair \n\nCome by and visit with one of the twenty-one community organizations...Odyssey Hospice\, Solara Hospital\, American Red Cross\, Golden Palms\, and more...in our area and gather information on services they can provide for you.  Refreshments will be provided by Jason's Deli and there will be door prizes! \nFor more information contact:  Maggie Mejia at (956) 389-1131.
X-ALT-DESC;FMTTYPE=text/html:Valley Baptist Medical Center and Care Management Student Intern would like invite you to attend the CommUnity Resource Fair \n\nCome by and visit with one of the twenty-one community organizations...Odyssey Hospice\, Solara Hospital\, American Red Cross\, Golden Palms\, and more...in our area and gather information on services they can provide for you.  Refreshments will be provided by Jason's Deli and there will be door prizes! \nFor more information contact:  Maggie Mejia at (956) 389-1131.\n
LOCATION:Woodward Conference Center
UID:e.1828.3626
SEQUENCE:3
DTSTAMP:20260420T181751Z
URL:https://business.harlingen.com/events/details/vbmc-care-management-student-intern-04-27-2012-3626
END:VEVENT

END:VCALENDAR
