BEGIN:VCALENDAR
VERSION:2.0
PRODID:-//ChamberMaster//Event Calendar 2.0//EN
METHOD:PUBLISH
X-PUBLISHED-TTL:P3D
REFRESH-INTERVAL:P3D
CALSCALE:GREGORIAN
BEGIN:VEVENT
DTSTART:20100923T223000Z
DTEND:20100923T223000Z
X-MICROSOFT-CDO-ALLDAYEVENT:FALSE
SUMMARY:Veranda Rehabilitation and Healthcare Open House & Ribbon Cutting
DESCRIPTION:Veranda Rehabilitation and Healthcare Open House & Ribbon Cutting Thursday\, Sept. 23\, 2010 starting at 5:30 pm.  Owned and operated by the Ensign Group\, Veranda Rehab and Healthcare is a 100-bed skilled nursing facility. Join us as we celebrate one of Harlingen's newest businesses with an open house and ribbon cutting ceremony.  For more information. please call (956) 423-4959.
X-ALT-DESC;FMTTYPE=text/html:Veranda Rehabilitation and Healthcare Open House & Ribbon Cutting Thursday\, Sept. 23\, 2010 starting at 5:30 pm.  Owned and operated by the Ensign Group\, Veranda Rehab and Healthcare is a 100-bed skilled nursing facility. Join us as we celebrate one of Harlingen's newest businesses with an open house and ribbon cutting ceremony.  For more information. please call (956) 423-4959.
LOCATION:
UID:e.1828.2750
SEQUENCE:3
DTSTAMP:20260421T223748Z
URL:https://business.harlingen.com/events/details/veranda-rehabilitation-and-healthcare-open-house-ribbon-cutting-09-23-2010-2750
END:VEVENT

END:VCALENDAR
