BEGIN:VCALENDAR
VERSION:2.0
PRODID:-//ChamberMaster//Event Calendar 2.0//EN
METHOD:PUBLISH
X-PUBLISHED-TTL:P3D
REFRESH-INTERVAL:P3D
CALSCALE:GREGORIAN
BEGIN:VEVENT
DTSTART:20101110T200000Z
DTEND:20101110T220000Z
X-MICROSOFT-CDO-ALLDAYEVENT:FALSE
SUMMARY:Veteran-owned Businesses Learn About Procurement/ Procurement for Veterans Workshop
DESCRIPTION:Are you a Veteran interested in learning how to sell your product or service to the U.S. Government? The workshop is sponsored by the Veterans Business Outreach Center (VBOC)\, the Rio South Texas Regional Procurement Technical Assistance Center (PTAC)\, and the Small Business Development Center (SBDC) at The University of Texas-Pan American. \n \nVBOC Director Alonzo Gracia encourages interested Veterans to attend the workshop and learn how government contracting really works. "Government contracting is one way for Veteran-owned businesses to expand and further establish themselves in the marketplace\," he adds.  \n \nIn addition to information on selling to the government\, a business development specialist from the U.S. Small Business Administration will be present to discuss the agency's programs available for Veterans.  To register \, please contact the Harlingen Chamber at (956) 423-5440.
X-ALT-DESC;FMTTYPE=text/html:Are you a Veteran interested in learning how to sell your product or service to the U.S. Government? The workshop is sponsored by the Veterans Business Outreach Center (VBOC)\, the Rio South Texas Regional Procurement Technical Assistance Center (PTAC)\, and the Small Business Development Center (SBDC) at The University of Texas-Pan American. \n \nVBOC Director Alonzo Gracia encourages interested Veterans to attend the workshop and learn how government contracting really works. "Government contracting is one way for Veteran-owned businesses to expand and further establish themselves in the marketplace\," he adds.  \n \nIn addition to information on selling to the government\, a business development specialist from the U.S. Small Business Administration will be present to discuss the agency's programs available for Veterans.  To register \, please contact the Harlingen Chamber at (956) 423-5440.\n
LOCATION:
UID:e.1828.2829
SEQUENCE:3
DTSTAMP:20260421T190014Z
URL:https://business.harlingen.com/events/details/veteran-owned-businesses-learn-about-procurement-procurement-for-veterans-workshop-11-10-2010-2829
END:VEVENT

END:VCALENDAR
