BEGIN:VCALENDAR
VERSION:2.0
PRODID:-//ChamberMaster//Event Calendar 2.0//EN
METHOD:PUBLISH
X-PUBLISHED-TTL:P3D
REFRESH-INTERVAL:P3D
CALSCALE:GREGORIAN
BEGIN:VEVENT
DTSTART:20100313T140000Z
DTEND:20100313T170000Z
X-MICROSOFT-CDO-ALLDAYEVENT:FALSE
SUMMARY:Veteran's Benefits Enrollment Fair
DESCRIPTION:Cameron County Veteran's Services will be on hand to help you enroll for your VA benefits.  Just bring your DD214 discharge papers and identification\, previous years tax information and spouse's social security number.  Information about Valley Baptist services will be provided.  Refreshments will be served.  An additional enrollment fair will be held at Valley Baptist Medical Center - Brownsville on Saturday\, March 20 from 8 to 11 am.  If you are already enrolled for VA benefits\, you do not need to re-enroll.
X-ALT-DESC;FMTTYPE=text/html:Cameron County Veteran's Services will be on hand to help you enroll for your VA benefits.  Just bring your DD214 discharge papers and identification\, previous years tax information and spouse's social security number.  Information about Valley Baptist services will be provided.  Refreshments will be served.  An additional enrollment fair will be held at Valley Baptist Medical Center - Brownsville on Saturday\, March 20 from 8 to 11 am.  If you are already enrolled for VA benefits\, you do not need to re-enroll.
LOCATION:East Tower Entrance
UID:e.1828.2450
SEQUENCE:3
DTSTAMP:20260422T094002Z
URL:https://business.harlingen.com/events/details/veteran-s-benefits-enrollment-fair-03-13-2010-2450
END:VEVENT

END:VCALENDAR
