BEGIN:VCALENDAR
VERSION:2.0
PRODID:-//ChamberMaster//Event Calendar 2.0//EN
METHOD:PUBLISH
X-PUBLISHED-TTL:P3D
REFRESH-INTERVAL:P3D
CALSCALE:GREGORIAN
BEGIN:VEVENT
DTSTART:20091110T130000Z
DTEND:20091110T153000Z
X-MICROSOFT-CDO-ALLDAYEVENT:FALSE
SUMMARY:Veteran's Day Breakfast at Canterbury Court
DESCRIPTION:Veterans\, we honor you.  Thank you for your service to our country.  We join the rest of the nation in remembering the sacrifices of American veterans and expressing our appreciation for your service.  Please join us for breakfast and celebrate our heroes our veterans on this special day.  Tuesday\, November 10th at \n7:00am-9:30am.  Menu to include made to order Omelets\, Eggs\, Biscuits\, Pancakes\, Danish\, Cereals\, Fruit\, and Beverages.  For more information\, please call (956) 412-7000. Be sure to sign up to win a $25.00 gift certificate from Luby's.
X-ALT-DESC;FMTTYPE=text/html:Veterans\, we honor you.  Thank you for your service to our country.  We join the rest of the nation in remembering the sacrifices of American veterans and expressing our appreciation for your service.  Please join us for breakfast and celebrate our heroes our veterans on this special day.  Tuesday\, November 10th at \n7:00am-9:30am.  Menu to include made to order Omelets\, Eggs\, Biscuits\, Pancakes\, Danish\, Cereals\, Fruit\, and Beverages.  For more information\, please call (956) 412-7000. Be sure to sign up to win a $25.00 gift certificate from Luby's.\n
LOCATION:
UID:e.1828.2205
SEQUENCE:3
DTSTAMP:20260422T130509Z
URL:https://business.harlingen.com/events/details/veteran-s-day-breakfast-at-canterbury-court-11-10-2009-2205
END:VEVENT

END:VCALENDAR
