BEGIN:VCALENDAR
VERSION:2.0
PRODID:-//ChamberMaster//Event Calendar 2.0//EN
METHOD:PUBLISH
X-PUBLISHED-TTL:P3D
REFRESH-INTERVAL:P3D
CALSCALE:GREGORIAN
BEGIN:VEVENT
DTSTART:20110514T140000Z
DTEND:20110514T180000Z
X-MICROSOFT-CDO-ALLDAYEVENT:FALSE
SUMMARY:Veteran's Fair
DESCRIPTION:Join the American Legion for a Veterans' Health/Community Fair with special presentations on VA Health Care & Claim Benefits. Plus much more! Free booth opportunities available. For more information contact the American Legion at (956) 423-1699 or Past Cmdr. Harrison at (713) 703-4561.
X-ALT-DESC;FMTTYPE=text/html:Join the American Legion for a Veterans' Health/Community Fair with special presentations on VA Health Care & Claim Benefits. Plus much more! Free booth opportunities available. For more information contact the American Legion at (956) 423-1699 or Past Cmdr. Harrison at (713) 703-4561.
LOCATION:
UID:e.1828.3048
SEQUENCE:3
DTSTAMP:20260421T094011Z
URL:https://business.harlingen.com/events/details/veteran-s-fair-05-14-2011-3048
END:VEVENT

END:VCALENDAR
